BEGIN:VCALENDAR
VERSION:2.0
TZID:Europe/Helsinki
PRODID:-//Pori-Seura ry//Porin Päivä 2025//FI
METHOD:PUBLISH
BEGIN:VEVENT
DTSTAMP:20260421T154200
STATUS:CONFIRMED
UID:3779
ORGANIZER: noreply@porinpaiva.fi
DTSTART:20250927T130000
DTEND:20250927T151500
DESCRIPTION: Ahlaisten upouuden koulun ja päiväkodin tilat ovat auki yleisölle Porin päivän kunniaksi. Tiloja esittelevät koulun ja päiväkodin henkilökunta.\nMukana menossa TV:stä tutut Maltti ja Valtti kahden konsertin voimin klo 13.15-13.30 ja klo 14.45-15.15. VAPAA PÄÄSY!\nIlmainen bussikuljetus lähtee klo 12 Kirjurinluodosta, Jyrki Kankaan patsaan vierestä. Paluu Ahlaisista Kirjuriin lähtee klo 15. Koulun pihamaalla on paljon kivaa tekemistä tarjolla klo 15.30 asti:\npomppulinna, makkaraa, hattaraa, puffet, arpajaiset, VPK:n kaluston esittely, partiolaiset, Ahlaisten urheilijat liikuttavat, Marttojen kauden maistiaisia, Vieno-poni, Willapallon tila ry:n lampaat\nEsillä myös Ahlaisten vapaat asunnot!\n\nTervetuloa koko perheen voimin!
SEQUENCE: 0
LOCATION: Ahlaisten monitoimitalo, Ahlaistentie 732
SUMMARY: Porin Päivä: Ahlaisten uuden koulun ja päiväkodin Avoimet Ovet ja Maltin & Valtin konsertti
URL:https://porinpaiva.fi/Kaikki/?id=3779
END:VEVENT
END:VCALENDAR